BEGIN:VCALENDAR
VERSION:2.0
PRODID:-//Squarespace Inc/Squarespace 6//v6//EN
BEGIN:VEVENT
UID:5ba093b21ae6cf6b144d6f9b@squarespace.com
DTSTAMP:20180918T055841Z
DTSTART:20190422T130000Z
DTEND:20190428T020000Z
SUMMARY:Japan and available for you
END:VEVENT
END:VCALENDAR
