BEGIN:VCALENDAR
VERSION:2.0
PRODID:-//Squarespace Inc/Squarespace 6//v6//EN
BEGIN:VEVENT
UID:5ba0901c4ae2370d2e215c7a@squarespace.com
DTSTAMP:20190207T025637Z
DTSTART:20190331T110000Z
DTEND:20190406T010000Z
SUMMARY:Japan - Cherry Blossom Tour
END:VEVENT
END:VCALENDAR
