BEGIN:VCALENDAR
VERSION:2.0
PRODID:-//Squarespace Inc/Squarespace 6//v6//EN
BEGIN:VEVENT
UID:5c5b93e9ec212d4fd491f3c0@squarespace.com
DTSTAMP:20190207T021446Z
DTSTART:20190303T143000Z
DTEND:20190307T223000Z
SUMMARY:Sam
END:VEVENT
END:VCALENDAR
