BEGIN:VCALENDAR
VERSION:2.0
PRODID:-//Squarespace Inc/Squarespace 6//v6//EN
BEGIN:VEVENT
UID:5c5b95bbec212d4fd4920ad4@squarespace.com
DTSTAMP:20190207T022137Z
DTSTART:20190325T133000Z
DTEND:20190331T023000Z
SUMMARY:Unavailable
END:VEVENT
END:VCALENDAR
