BEGIN:VCALENDAR
VERSION:2.0
PRODID:-//Squarespace Inc/Squarespace 6//v6//EN
BEGIN:VEVENT
UID:5c04880c898583120b1f1270@squarespace.com
DTSTAMP:20190207T021059Z
DTSTART:20190301T140000Z
DTEND:20190301T180000Z
SUMMARY:Ship to Airport 
END:VEVENT
END:VCALENDAR
