BEGIN:VCALENDAR
VERSION:2.0
PRODID:-//Squarespace Inc/Squarespace 6//v6//EN
BEGIN:VEVENT
UID:5c0485b1575d1fff9917cb57@squarespace.com
DTSTAMP:20190207T021847Z
DTSTART:20190318T113000Z
DTEND:20190319T003000Z
SUMMARY:Spellbound at Waitomo Caves 
END:VEVENT
END:VCALENDAR
