BEGIN:VCALENDAR
VERSION:2.0
PRODID:-//Squarespace Inc/Squarespace 6//v6//EN
BEGIN:VEVENT
UID:5c0484f34d7a9c1815ce1419@squarespace.com
DTSTAMP:20190207T021829Z
DTSTART:20190317T123000Z
DTEND:20190317T213000Z
SUMMARY:Auckland and Piha Beach
END:VEVENT
END:VCALENDAR
