BEGIN:VCALENDAR
VERSION:2.0
PRODID:-//Squarespace Inc/Squarespace 6//v6//EN
BEGIN:VEVENT
UID:5befa6052b6a28d6308964e2@squarespace.com
DTSTAMP:20190207T021809Z
DTSTART:20190316T130000Z
DTEND:20190316T200000Z
SUMMARY:West Coast
END:VEVENT
END:VCALENDAR
