BEGIN:VCALENDAR
VERSION:2.0
PRODID:-//Squarespace Inc/Squarespace 6//v6//EN
BEGIN:VEVENT
UID:5c5b9db0ec212d4fd49266e8@squarespace.com
DTSTAMP:20190207T025432Z
DTSTART:20190311T140000Z
DTEND:20190315T210000Z
SUMMARY:On tour
END:VEVENT
END:VCALENDAR
