BEGIN:VCALENDAR
VERSION:2.0
PRODID:-//Squarespace Inc/Squarespace 6//v6//EN
BEGIN:VEVENT
UID:5c5b9c09419202c2a4d02cfe@squarespace.com
DTSTAMP:20190207T024805Z
DTSTART:20190227T150000Z
DTEND:20190227T220000Z
SUMMARY:WC group
END:VEVENT
END:VCALENDAR
