BEGIN:VCALENDAR
VERSION:2.0
PRODID:-//Squarespace Inc/Squarespace 6//v6//EN
BEGIN:VEVENT
UID:5ba08d732b6a28392b57b1bd@squarespace.com
DTSTAMP:20190207T024116Z
DTSTART:20190225T140000Z
DTEND:20190225T210000Z
SUMMARY:Around Auckland
END:VEVENT
END:VCALENDAR
