BEGIN:VCALENDAR
VERSION:2.0
PRODID:-//Squarespace Inc/Squarespace 6//v6//EN
BEGIN:VEVENT
UID:5c5b8d0c971a1856633da9d8@squarespace.com
DTSTAMP:20190207T024054Z
DTSTART:20190224T120000Z
DTEND:20190225T010000Z
SUMMARY:Rotorua
END:VEVENT
END:VCALENDAR
