BEGIN:VCALENDAR
VERSION:2.0
PRODID:-//Squarespace Inc/Squarespace 6//v6//EN
BEGIN:VEVENT
UID:5c0483f889858318c23e8ac3@squarespace.com
DTSTAMP:20190207T024028Z
DTSTART:20190223T150000Z
DTEND:20190223T210000Z
SUMMARY:Matakana 
END:VEVENT
END:VCALENDAR
