BEGIN:VCALENDAR
VERSION:2.0
PRODID:-//Squarespace Inc/Squarespace 6//v6//EN
BEGIN:VEVENT
UID:5b34a2b8352f5303fce97cc1@squarespace.com
DTSTAMP:20180628T085717Z
DTSTART:20190223T080000Z
DTEND:20190223T090000Z
SUMMARY:Auckland
END:VEVENT
END:VCALENDAR
