BEGIN:VCALENDAR
VERSION:2.0
PRODID:-//Squarespace Inc/Squarespace 6//v6//EN
BEGIN:VEVENT
UID:5b34a24588251b230bb80e34@squarespace.com
DTSTAMP:20180628T085609Z
DTSTART:20190221T080000Z
DTEND:20190221T090000Z
SUMMARY:Auckland
END:VEVENT
END:VCALENDAR
