BEGIN:VCALENDAR
VERSION:2.0
PRODID:-//Squarespace Inc/Squarespace 6//v6//EN
BEGIN:VEVENT
UID:5b34a1266d2a7317ca17b273@squarespace.com
DTSTAMP:20180628T085214Z
DTSTART:20190220T080000Z
DTEND:20190220T090000Z
SUMMARY:Muriwai West Coast
END:VEVENT
END:VCALENDAR
