BEGIN:VCALENDAR
VERSION:2.0
PRODID:-//Squarespace Inc/Squarespace 6//v6//EN
BEGIN:VEVENT
UID:5b34a0c8575d1fa05d209b03@squarespace.com
DTSTAMP:20180628T084925Z
DTSTART:20190219T080000Z
DTEND:20190219T090000Z
SUMMARY:Auckland
END:VEVENT
END:VCALENDAR
