BEGIN:VCALENDAR
VERSION:2.0
PRODID:-//Squarespace Inc/Squarespace 6//v6//EN
BEGIN:VEVENT
UID:5c5b913cee6eb05bcb450fde@squarespace.com
DTSTAMP:20190207T020144Z
DTSTART:20190214T140000Z
DTEND:20190214T210000Z
SUMMARY:See Auckland
END:VEVENT
END:VCALENDAR
