BEGIN:VCALENDAR
VERSION:2.0
PRODID:-//Squarespace Inc/Squarespace 6//v6//EN
BEGIN:VEVENT
UID:5a3cbc5441920253efc21fec@squarespace.com
DTSTAMP:20171222T080559Z
DTSTART:20180107T193000Z
DTEND:20180107T233000Z
SUMMARY:Auckland Introduction (half day)
END:VEVENT
END:VCALENDAR
