BEGIN:VCALENDAR
VERSION:2.0
PRODID:-//Squarespace Inc/Squarespace 6//v6//EN
BEGIN:VEVENT
UID:5a3cbb570d92975090c4ddb5@squarespace.com
DTSTAMP:20171222T080148Z
DTSTART:20180105T130000Z
DTEND:20180105T220000Z
SUMMARY:Auckland in a Day
END:VEVENT
END:VCALENDAR
