BEGIN:VCALENDAR
VERSION:2.0
PRODID:-//Squarespace Inc/Squarespace 6//v6//EN
BEGIN:VEVENT
UID:59a8df3437c5813849ca94da@squarespace.com
DTSTAMP:20170901T041913Z
DTSTART:20180126T053000Z
DTEND:20180126T063000Z
SUMMARY:Muriwai
END:VEVENT
END:VCALENDAR
