BEGIN:VCALENDAR
VERSION:2.0
PRODID:-//Squarespace Inc/Squarespace 6//v6//EN
BEGIN:VEVENT
UID:59a8dd89e4fcb5373c3ec162@squarespace.com
DTSTAMP:20170901T041050Z
DTSTART:20180119T053000Z
DTEND:20180119T063000Z
SUMMARY:Auckland
END:VEVENT
END:VCALENDAR
