BEGIN:VCALENDAR
VERSION:2.0
PRODID:-//Squarespace Inc/Squarespace 6//v6//EN
BEGIN:VEVENT
UID:59a8dd39d55b41693d49bec1@squarespace.com
DTSTAMP:20170901T040907Z
DTSTART:20180101T053000Z
DTEND:20180102T063000Z
SUMMARY:Wellington
END:VEVENT
END:VCALENDAR
