BEGIN:VCALENDAR
VERSION:2.0
PRODID:-//Squarespace Inc/Squarespace 6//v6//EN
BEGIN:VEVENT
UID:59a8cc09e5dd5bf2b2da6080@squarespace.com
DTSTAMP:20170901T025900Z
DTSTART:20170908T130000Z
DTEND:20170910T140000Z
SUMMARY:Rotorua and Waitomo
END:VEVENT
END:VCALENDAR
