BEGIN:VCALENDAR
VERSION:2.0
PRODID:-//Squarespace Inc/Squarespace 6//v6//EN
BEGIN:VEVENT
UID:59c8601e12abd9f4e1fcecd0@squarespace.com
DTSTAMP:20170925T014911Z
DTSTART:20170930T120000Z
DTEND:20170930T220000Z
SUMMARY:Karangahake Gorge
END:VEVENT
END:VCALENDAR
