BEGIN:VCALENDAR
VERSION:2.0
PRODID:-//Squarespace Inc/Squarespace 6//v6//EN
BEGIN:VEVENT
UID:59c85f972278e73c827d72a9@squarespace.com
DTSTAMP:20170925T014650Z
DTSTART:20170929T120000Z
DTEND:20170929T220000Z
SUMMARY:Rotorua
END:VEVENT
END:VCALENDAR
