BEGIN:VCALENDAR
VERSION:2.0
PRODID:-//Squarespace Inc/Squarespace 6//v6//EN
BEGIN:VEVENT
UID:59c85efdd55b414bfd5b6da6@squarespace.com
DTSTAMP:20170925T014432Z
DTSTART:20170928T140000Z
DTEND:20170928T230000Z
SUMMARY:Bay of Plenty
END:VEVENT
END:VCALENDAR
