BEGIN:VCALENDAR
VERSION:2.0
PRODID:-//Squarespace Inc/Squarespace 6//v6//EN
BEGIN:VEVENT
UID:59c85806cd0f687a8b2b36b4@squarespace.com
DTSTAMP:20170925T012940Z
DTSTART:20170926T133000Z
DTEND:20170927T023000Z
SUMMARY:Auckland
END:VEVENT
END:VCALENDAR
