BEGIN:VCALENDAR
VERSION:2.0
PRODID:-//Squarespace Inc/Squarespace 6//v6//EN
BEGIN:VEVENT
UID:59a8cd286f4ca30850314e0f@squarespace.com
DTSTAMP:20170901T030229Z
DTSTART:20170922T130000Z
DTEND:20170924T140000Z
SUMMARY:Rotorua and Waitomo
END:VEVENT
END:VCALENDAR
