BEGIN:VCALENDAR
VERSION:2.0
PRODID:-//Squarespace Inc/Squarespace 6//v6//EN
BEGIN:VEVENT
UID:58858c59579fb38c051cce0e@squarespace.com
DTSTAMP:20170123T045549Z
DTSTART:20170707T130000Z
DTEND:20170714T020000Z
SUMMARY:Japan
END:VEVENT
END:VCALENDAR
