BEGIN:VCALENDAR
VERSION:2.0
PRODID:-//Squarespace Inc/Squarespace 6//v6//EN
BEGIN:VEVENT
UID:588589825016e13d97c6adcc@squarespace.com
DTSTAMP:20170123T045226Z
DTSTART:20170703T130000Z
DTEND:20170707T020000Z
SUMMARY:Japan
END:VEVENT
END:VCALENDAR
