BEGIN:VCALENDAR
VERSION:2.0
PRODID:-//Squarespace Inc/Squarespace 6//v6//EN
BEGIN:VEVENT
UID:588582f49f74568208894020@squarespace.com
DTSTAMP:20170123T042638Z
DTSTART:20170603T123000Z
DTEND:20170616T013000Z
SUMMARY:Japan
END:VEVENT
END:VCALENDAR
