BEGIN:VCALENDAR
VERSION:2.0
PRODID:-//Squarespace Inc/Squarespace 6//v6//EN
BEGIN:VEVENT
UID:58856d2a46c3c44ae81de021@squarespace.com
DTSTAMP:20170123T035713Z
DTSTART:20170504T130000Z
DTEND:20170511T000000Z
SUMMARY:Seoul\, South Korea
END:VEVENT
END:VCALENDAR
