BEGIN:VCALENDAR
VERSION:2.0
PRODID:-//Squarespace Inc/Squarespace 6//v6//EN
BEGIN:VEVENT
UID:58857f4a1b10e356f5400355@squarespace.com
DTSTAMP:20170123T041248Z
DTSTART:20170529T120000Z
DTEND:20170603T010000Z
SUMMARY:Japan
END:VEVENT
END:VCALENDAR
