BEGIN:VCALENDAR
VERSION:2.0
PRODID:-//Squarespace Inc/Squarespace 6//v6//EN
BEGIN:VEVENT
UID:5885722b9f74568208887f07@squarespace.com
DTSTAMP:20170123T035324Z
DTSTART:20170511T130000Z
DTEND:20170529T033000Z
SUMMARY:Japan
END:VEVENT
END:VCALENDAR
