BEGIN:VCALENDAR
VERSION:2.0
PRODID:-//Squarespace Inc/Squarespace 6//v6//EN
BEGIN:VEVENT
UID:58856a981b631b439676a7ae@squarespace.com
DTSTAMP:20170123T035550Z
DTSTART:20170419T133000Z
DTEND:20170504T023000Z
SUMMARY:Japan
END:VEVENT
END:VCALENDAR
