BEGIN:VCALENDAR
VERSION:2.0
PRODID:-//Squarespace Inc/Squarespace 6//v6//EN
BEGIN:VEVENT
UID:588567bfd2b857134e43c3c0@squarespace.com
DTSTAMP:20170123T022523Z
DTSTART:20170306T143000Z
DTEND:20170306T153000Z
SUMMARY:Booked - Auckland in a Day
END:VEVENT
END:VCALENDAR
