BEGIN:VCALENDAR
VERSION:2.0
PRODID:-//Squarespace Inc/Squarespace 6//v6//EN
BEGIN:VEVENT
UID:5816bcc8bebafb7ee76476da@squarespace.com
DTSTAMP:20161031T034033Z
DTSTART:20170329T040000Z
DTEND:20170418T050000Z
SUMMARY:Booked - Japan
END:VEVENT
END:VCALENDAR
