BEGIN:VCALENDAR
VERSION:2.0
PRODID:-//Squarespace Inc/Squarespace 6//v6//EN
BEGIN:VEVENT
UID:58852a88d482e9d5794069fd@squarespace.com
DTSTAMP:20170122T224214Z
DTSTART:20170301T110000Z
DTEND:20170303T000000Z
SUMMARY:Booked - Photography tour 
END:VEVENT
END:VCALENDAR
