BEGIN:VCALENDAR
VERSION:2.0
PRODID:-//Squarespace Inc/Squarespace 6//v6//EN
BEGIN:VEVENT
UID:5816bc01893fc013e67e24c1@squarespace.com
DTSTAMP:20161031T033611Z
DTSTART:20170225T140000Z
DTEND:20170225T150000Z
SUMMARY:Booking - more than food
END:VEVENT
END:VCALENDAR
