BEGIN:VCALENDAR
VERSION:2.0
PRODID:-//Squarespace Inc/Squarespace 6//v6//EN
BEGIN:VEVENT
UID:5816bb5d37c581849eb65370@squarespace.com
DTSTAMP:20161031T033343Z
DTSTART:20170224T140000Z
DTEND:20170224T150000Z
SUMMARY:Booking - West Coast beaches
END:VEVENT
END:VCALENDAR
