BEGIN:VCALENDAR
VERSION:2.0
PRODID:-//Squarespace Inc/Squarespace 6//v6//EN
BEGIN:VEVENT
UID:5816b999cd0f682fcba5cbb6@squarespace.com
DTSTAMP:20161031T033217Z
DTSTART:20170223T143000Z
DTEND:20170223T223000Z
SUMMARY:Booked - Coromandel
END:VEVENT
END:VCALENDAR
