BEGIN:VCALENDAR
VERSION:2.0
PRODID:-//Squarespace Inc/Squarespace 6//v6//EN
BEGIN:VEVENT
UID:5816b96a2e69cf2c64f41a97@squarespace.com
DTSTAMP:20161031T032503Z
DTSTART:20170222T143000Z
DTEND:20170222T153000Z
SUMMARY:Booked - Auckland
END:VEVENT
END:VCALENDAR
