BEGIN:VCALENDAR
VERSION:2.0
PRODID:-//Squarespace Inc/Squarespace 6//v6//EN
BEGIN:VEVENT
UID:5891a627440243c60dc4600d@squarespace.com
DTSTAMP:20170201T091611Z
DTSTART:20170220T143000Z
DTEND:20170220T223000Z
SUMMARY:Auckland with K and G
END:VEVENT
END:VCALENDAR
