BEGIN:VCALENDAR
VERSION:2.0
PRODID:-//Squarespace Inc/Squarespace 6//v6//EN
BEGIN:VEVENT
UID:58856698e4fcb5d74e1588df@squarespace.com
DTSTAMP:20170123T021619Z
DTSTART:20170219T143000Z
DTEND:20170219T213000Z
SUMMARY:Booked - Auckland in a Day
END:VEVENT
END:VCALENDAR
