BEGIN:VCALENDAR
VERSION:2.0
PRODID:-//Squarespace Inc/Squarespace 6//v6//EN
BEGIN:VEVENT
UID:5816b934cd0f682fcba5c91a@squarespace.com
DTSTAMP:20161031T032409Z
DTSTART:20170217T143000Z
DTEND:20170217T153000Z
SUMMARY:Booked - Auckland
END:VEVENT
END:VCALENDAR
