BEGIN:VCALENDAR
VERSION:2.0
PRODID:-//Squarespace Inc/Squarespace 6//v6//EN
BEGIN:VEVENT
UID:5891a49329687fadaacfe216@squarespace.com
DTSTAMP:20170201T090628Z
DTSTART:20170216T133000Z
DTEND:20170217T023000Z
SUMMARY:Auckland in a Day
END:VEVENT
END:VCALENDAR
