BEGIN:VCALENDAR
VERSION:2.0
PRODID:-//Squarespace Inc/Squarespace 6//v6//EN
BEGIN:VEVENT
UID:588565f8d482e9d579436d31@squarespace.com
DTSTAMP:20170123T021156Z
DTSTART:20170215T143000Z
DTEND:20170215T153000Z
SUMMARY:Booked - Auckland in a Day
END:VEVENT
END:VCALENDAR
