BEGIN:VCALENDAR
VERSION:2.0
PRODID:-//Squarespace Inc/Squarespace 6//v6//EN
BEGIN:VEVENT
UID:58853791b8a79be56f425240@squarespace.com
DTSTAMP:20170122T230353Z
DTSTART:20170213T140000Z
DTEND:20170213T210000Z
SUMMARY:Booked - Auckland
END:VEVENT
END:VCALENDAR
