BEGIN:VCALENDAR
VERSION:2.0
PRODID:-//Squarespace Inc/Squarespace 6//v6//EN
BEGIN:VEVENT
UID:5891a57029687fadaacfe7b8@squarespace.com
DTSTAMP:20170201T091023Z
DTSTART:20170201T133000Z
DTEND:20170202T023000Z
SUMMARY:Around Auckland
END:VEVENT
END:VCALENDAR
